BEGIN:VCALENDAR
VERSION:2.0
PRODID:-//wp-events-plugin.com//7.2.3.1//EN
TZID:America/Detroit
X-WR-TIMEZONE:America/Detroit
BEGIN:VEVENT
UID:72@artandelement.com
DTSTART;TZID=America/Detroit:20250809T090000
DTEND;TZID=America/Detroit:20250809T180000
DTSTAMP:20250225T165827Z
URL:https://www.artandelement.com/events/2025-charlevoix-waterfront-art-fa
 ir/
SUMMARY:2025 Charlevoix Waterfront Art Fair
DESCRIPTION:I will be at the 2025 Charlevoix Waterfront Art Fair\, August 9
 \, 2025.  See you there!
ATTACH;FMTTYPE=image/jpeg:https://www.artandelement.com/wp-content/uploads
 /2021/04/charlevoix-arial.jpg
CATEGORIES:Art Fairs
LOCATION:Charlevoix Waterfront\, East Park\, 100 E Clinton St\, Charlevoix\
 , MI\, 49720\, United States
GEO:45.316611;-85.258161
X-APPLE-STRUCTURED-LOCATION;VALUE=URI;X-ADDRESS=100 E Clinton St\, Charlevo
 ix\, MI\, 49720\, United States;X-APPLE-RADIUS=100;X-TITLE=Charlevoix Wate
 rfront\, East Park:geo:45.316611,-85.258161
END:VEVENT
BEGIN:VTIMEZONE
TZID:America/Detroit
X-LIC-LOCATION:America/Detroit
BEGIN:DAYLIGHT
DTSTART:20250309T030000
TZOFFSETFROM:-0500
TZOFFSETTO:-0400
TZNAME:EDT
END:DAYLIGHT
END:VTIMEZONE
END:VCALENDAR