BEGIN:VCALENDAR
VERSION:2.0
PRODID:-//wp-events-plugin.com//7.2.3.1//EN
TZID:America/Detroit
X-WR-TIMEZONE:America/Detroit
BEGIN:VEVENT
UID:54@artandelement.com
DTSTART;TZID=America/Detroit;VALUE=DATE:20240203
DTEND;TZID=America/Detroit;VALUE=DATE:20240205
DTSTAMP:20231203T203842Z
URL:https://www.artandelement.com/events/cherie-at-mount-dora-arts-festiva
 l/
SUMMARY:Cherie at Mount Dora Arts Festival
DESCRIPTION:Experience over 250 fine artists at the Mount Dora Arts Festiva
 l.  The event is free to attend.
ATTACH;FMTTYPE=image/jpeg:https://www.artandelement.com/wp-content/uploads
 /2022/11/mtdora-street.jpg
CATEGORIES:Art Fairs
LOCATION:Mount Dora Historic Walking District\, 510 N. Baker St.\, Mount Do
 ra\, FL\, 32757\, United States
GEO:28.800826;-81.643193
X-APPLE-STRUCTURED-LOCATION;VALUE=URI;X-ADDRESS=510 N. Baker St.\, Mount Do
 ra\, FL\, 32757\, United States;X-APPLE-RADIUS=100;X-TITLE=Mount Dora Hist
 oric Walking District:geo:28.800826,-81.643193
END:VEVENT
BEGIN:VTIMEZONE
TZID:America/Detroit
X-LIC-LOCATION:America/Detroit
BEGIN:STANDARD
DTSTART:20231105T010000
TZOFFSETFROM:-0400
TZOFFSETTO:-0500
TZNAME:EST
END:STANDARD
END:VTIMEZONE
END:VCALENDAR