BEGIN:VCALENDAR
VERSION:2.0
PRODID:-//wp-events-plugin.com//7.2.3.1//EN
TZID:America/Detroit
X-WR-TIMEZONE:America/Detroit
BEGIN:VEVENT
UID:15@artandelement.com
DTSTART;TZID=America/Detroit;VALUE=DATE:20210924
DTEND;TZID=America/Detroit;VALUE=DATE:20210927
DTSTAMP:20210706T222646Z
URL:https://www.artandelement.com/events/cherie-at-plaza-art-fair-kansas-c
 ity/
SUMMARY:Cherie at Plaza Art Fair\, Kansas City
DESCRIPTION:Cherie is pleased to be presenting at the Plaza Art Fair in Kan
 sas City.
CATEGORIES:Art Fairs
LOCATION:Country Club Plaza\, Booth 140\, 322 Ward Pkwy\, Kansas City\, MO\
 , 64112\, United States
GEO:39.040763;-94.591132
X-APPLE-STRUCTURED-LOCATION;VALUE=URI;X-ADDRESS=322 Ward Pkwy\, Kansas City
 \, MO\, 64112\, United States;X-APPLE-RADIUS=100;X-TITLE=Country Club Plaz
 a\, Booth 140:geo:39.040763,-94.591132
END:VEVENT
BEGIN:VTIMEZONE
TZID:America/Detroit
X-LIC-LOCATION:America/Detroit
BEGIN:DAYLIGHT
DTSTART:20210314T030000
TZOFFSETFROM:-0500
TZOFFSETTO:-0400
TZNAME:EDT
END:DAYLIGHT
END:VTIMEZONE
END:VCALENDAR