BEGIN:VCALENDAR
VERSION:2.0
PRODID:-//wp-events-plugin.com//7.2.3.1//EN
TZID:America/Detroit
X-WR-TIMEZONE:America/Detroit
BEGIN:VEVENT
UID:27@artandelement.com
DTSTART;TZID=America/Detroit:20211105T100000
DTEND;TZID=America/Detroit:20211107T170000
DTSTAMP:20210827T143712Z
URL:https://www.artandelement.com/events/cherie-in-az-carefree-fine-art-wi
 ne-festival/
SUMMARY:Cherie in AZ: Carefree Fine Art & Wine Festival
DESCRIPTION:Join me and 165 other artists for this fun event near Phoenix\,
  Arizona\, including two of my favorite things: great art and great wine!
ATTACH;FMTTYPE=image/jpeg:https://www.artandelement.com/wp-content/uploads
 /2021/08/CFJANCROWD.jpg
CATEGORIES:Art Fairs
LOCATION:Downtown Carefree\, Arizona\, 101 Easy Street\, Carefree\, AZ\, 85
 377\, United States
GEO:33.824798;-111.922766
X-APPLE-STRUCTURED-LOCATION;VALUE=URI;X-ADDRESS=101 Easy Street\, Carefree\
 , AZ\, 85377\, United States;X-APPLE-RADIUS=100;X-TITLE=Downtown Carefree\
 , Arizona:geo:33.824798,-111.922766
END:VEVENT
BEGIN:VTIMEZONE
TZID:America/Detroit
X-LIC-LOCATION:America/Detroit
BEGIN:DAYLIGHT
DTSTART:20210314T030000
TZOFFSETFROM:-0500
TZOFFSETTO:-0400
TZNAME:EDT
END:DAYLIGHT
BEGIN:STANDARD
DTSTART:20211107T010000
TZOFFSETFROM:-0400
TZOFFSETTO:-0500
TZNAME:EST
END:STANDARD
END:VTIMEZONE
END:VCALENDAR