BEGIN:VCALENDAR
VERSION:2.0
PRODID:-//wp-events-plugin.com//7.2.3.1//EN
TZID:America/Detroit
X-WR-TIMEZONE:America/Detroit
BEGIN:VEVENT
UID:34@artandelement.com
DTSTART;TZID=America/Chicago:20220730T100000
DTEND;TZID=America/Chicago:20220731T170000
DTSTAMP:20220430T191253Z
URL:https://www.artandelement.com/events/loring-park-2022/
SUMMARY:Cherie in Loring Park
DESCRIPTION:Once again I will be displaying my artwork at the Loring Park A
 rt Festival.
ATTACH;FMTTYPE=image/jpeg:https://www.artandelement.com/wp-content/uploads
 /2022/04/loring-park-2022.jpeg
CATEGORIES:Art Fairs
LOCATION:Loring Park\, 1382 Willow Street\, Minneapolis\, MN\, 55403\, Unit
 ed States
GEO:44.968976;-93.281587
X-APPLE-STRUCTURED-LOCATION;VALUE=URI;X-ADDRESS=1382 Willow Street\, Minnea
 polis\, MN\, 55403\, United States;X-APPLE-RADIUS=100;X-TITLE=Loring Park:
 geo:44.968976,-93.281587
END:VEVENT
BEGIN:VTIMEZONE
TZID:America/Chicago
X-LIC-LOCATION:America/Chicago
BEGIN:DAYLIGHT
DTSTART:20220313T030000
TZOFFSETFROM:-0600
TZOFFSETTO:-0500
TZNAME:CDT
END:DAYLIGHT
END:VTIMEZONE
END:VCALENDAR